Workbook

Sheet VACUNO añojos-vacas
A1: LONJA DE PRECIOS DEL MERCADO CENTRAL DE CARNES
A3: Canal clasificación EUROP Reg. 1234/2007 y 1249/2008
A5: Canal clasificación Real Decreto 225/2008
A7: VACUNO (€/kilo canal)
D9: Mayo | E9: Mayo
D10: Semana 21/25 | E10: Semana 22/25
A11: CATEGORIA | C11: CLASE | D11: EURO | E11: EURO | F11: Variación
A13: Añojos | B13: Hasta 280 Kgs | C13: E-3 | D13: 7.39 | E13: 7.39 | F13: =+E13-D13 -> 0
C14: U-3 | D14: 7.17 | E14: 7.17 | F14: =+E14-D14 -> 0
C15: R-3 | D15: 7.06 | E15: 7.06 | F15: =+E15-D15 -> 0
C16: O-3 | D16: 6.37 | E16: 6.37 | F16: =+E16-D16 -> 0
B18: de 281 a 320 Kgs | C18: E-3 | D18: 7.33 | E18: 7.33 | F18: =+E18-D18 -> 0
C19: U-3 | D19: 7.27 | E19: 7.27 | F19: =+E19-D19 -> 0
C20: R-3 | D20: 7.03 | E20: 7.03 | F20: =+E20-D20 -> 0
C21: O-3 | D21: 6.64 | E21: 6.64 | F21: =+E21-D21 -> 0
B23: de 321 a 370 Kgs | C23: E-3 | D23: 7.16 | E23: 7.16 | F23: =+E23-D23 -> 0
C24: U-3 | D24: 7.13 | E24: 7.13 | F24: =+E24-D24 -> 0
C25: R-3 | D25: 6.97 | E25: 6.97 | F25: =+E25-D25 -> 0
C26: O-3 | D26: 6.64 | E26: 6.64 | F26: =+E26-D26 -> 0
B28: más 371 Kgs | C28: E-3 | D28: 7.07 | E28: 7.07 | F28: =+E28-D28 -> 0
C29: U-3 | D29: 6.97 | E29: 6.97 | F29: =+E29-D29 -> 0
C30: R-3 | D30: 6.83 | E30: 6.83 | F30: =+E30-D30 -> 0
C31: O-3 | D31: 6.65 | E31: 6.65 | F31: =+E31-D31 -> 0
A33: Cuarteo Añojos | C33: Delantero | D33: 6.85 | E33: 6.85 | F33: =+E33-D33 -> 0
C34: Trasero | D34: 7.1 | E34: 7.1 | F34: =+E34-D34 -> 0
C35: Falda | D35: 7.35 | E35: 7.35 | F35: =+E35-D35 -> 0
C36: Lomo | D36: 14 | E36: 14 | F36: =+E36-D36 -> 0
C37: Pierna | D37: 7.8 | E37: 7.8 | F37: =+E37-D37 -> 0
C38: Pistola | D38: 8.45 | E38: 8.45 | F38: =+E38-D38 -> 0

Sheet VACUNO terneras
A1: LONJA DE PRECIOS DEL MERCADO CENTRAL DE CARNES
A3: Canal clasificación EUROP Reg. 1234/2007 y 1249/2008
A5: Canal clasificación Real Decreto 225/2008
A7: VACUNO (€/kilo canal)
D9: =+'VACUNO añojos-vacas'!D9 -> Mayo | E9: =+'VACUNO añojos-vacas'!E9 -> Mayo
D10: ='VACUNO añojos-vacas'!D10 -> Semana 21/25 | E10: ='VACUNO añojos-vacas'!E10 -> Semana 22/25
A11: CATEGORIA | C11: CLASE | D11: EURO | E11: EURO | F11: Variación
A13: Terneras | B13: Hasta 220 Kgs | C13: E-3 | D13: 7.8 | E13: 7.8 | F13: =+E13-D13 -> 0
C14: U-3 | D14: 7.59 | E14: 7.59 | F14: =+E14-D14 -> 0
C15: R-3 | D15: 7.44 | E15: 7.44 | F15: =+E15-D15 -> 0
C16: O-3 | D16: 6.94 | E16: 6.94 | F16: =+E16-D16 -> 0
B18: de 221 a 260 Kgs | C18: E-3 | D18: 7.77 | E18: 7.77 | F18: =+E18-D18 -> 0
C19: U-3 | D19: 7.59 | E19: 7.59 | F19: =+E19-D19 -> 0
C20: R-3 | D20: 7.44 | E20: 7.44 | F20: =+E20-D20 -> 0
C21: O-3 | D21: 6.94 | E21: 6.94 | F21: =+E21-D21 -> 0
B23: de 261 a 300 Kgs | C23: E-3 | D23: 7.63 | E23: 7.63 | F23: =+E23-D23 -> 0
C24: U-3 | D24: 7.61 | E24: 7.61 | F24: =+E24-D24 -> 0
C25: R-3 | D25: 7.44 | E25: 7.44 | F25: =+E25-D25 -> 0
C26: O-3 | D26: 6.94 | E26: 6.94 | F26: =+E26-D26 -> 0
B28: más 300 Kgs | C28: E-3 | D28: 7.42 | E28: 7.42 | F28: =+E28-D28 -> 0
C29: U-3 | D29: 7.34 | E29: 7.34 | F29: =+E29-D29 -> 0
C30: R-3 | D30: 7.04 | E30: 7.04 | F30: =+E30-D30 -> 0
C31: O-3 | D31: 6.85 | E31: 6.85 | F31: =+E31-D31 -> 0
A33: Cuarteo Terneras | C33: Delantero | D33: 6.77 | E33: 6.77 | F33: =+E33-D33 -> 0
C34: Trasero | D34: 7.42 | E34: 7.42 | F34: =+E34-D34 -> 0
C35: Falda | D35: 7.27 | E35: 7.27 | F35: =+E35-D35 -> 0
C36: Lomo | D36: 16 | E36: 16 | F36: =+E36-D36 -> 0
C37: Pierna | D37: 7.37 | E37: 7.37 | F37: =+E37-D37 -> 0
C38: Pistola | D38: 8.97 | E38: 8.97 | F38: =+E38-D38 -> 0

Sheet vacas y novillas
A1: LONJA DE PRECIOS DEL MERCADO CENTRAL DE CARNES
A3: Canal clasificación EUROP Reg. 1234/2007 y 1249/2008
A5: Canal clasificación Real Decreto 225/2008
A7: VACUNO (€/kilo canal)
D9: ='VACUNO terneras'!D9 -> Mayo | E9: =+'VACUNO terneras'!E9 -> Mayo
D10: ='VACUNO añojos-vacas'!D10 -> Semana 21/25 | E10: ='VACUNO añojos-vacas'!E10 -> Semana 22/25
A11: CATEGORIA | C11: CLASE | D11: EURO | E11: EURO | F11: Variación
A14: Vacas y Novillas | B14: U-5 | D14: 6.2 | E14: 6.2 | F14: =+E14-D14 -> 0
B15: R-4 | D15: 5.5 | E15: 5.5 | F15: =+E15-D15 -> 0
B16: R-3 | D16: 4.9 | E16: 4.9 | F16: =+E16-D16 -> 0
B17: O-3 | D17: 4.6 | E17: 4.6 | F17: =+E17-D17 -> 0
B18: O-2 | D18: 4.2 | E18: 4.2 | F18: =+E18-D18 -> 0
B19: P-2 | D19: 3.8 | E19: 3.8 | F19: =+E19-D19 -> 0
B20: P-1de 170 a 180 Kg. | D20: 3.5 | E20: 3.5 | F20: =+E20-D20 -> 0
B21: P-1 de180 a 190 Kg. | D21: 3.5 | E21: 3.5 | F21: =+E21-D21 -> 0
B22: P-1 de 190 a 200 Kg. | D22: 3.5 | E22: 3.5 | F22: =+E22-D22 -> 0
B23: Pistola U/R grasa 4/5 +100 | D23: 7.2 | E23: 7.2 | F23: =+E23-D23 -> 0
B24: Pistola U/R grasa 4/5 +95 | D24: 6.8 | E24: 6.8 | F24: =+E24-D24 -> 0
B25: Pistola U/R grasa4/5 +90 | D25: 6.6 | E25: 6.6 | F25: =+E25-D25 -> 0
B26: Pistola U/R grasa 3/4 +85 | D26: 6.35 | E26: 6.35 | F26: =+E26-D26 -> 0
... B28: Pistola U/R grasa 3/4 +70 | D28: 5.2 | E28: 5.2 | F28: =+E28-D28 -> 0

Sheet despiece ternera blanca
A1: LONJA DE PRECIOS DEL MERCADO CENTRAL DE CARNES
A3: Canal clasificación EUROP Reg. 1234/2007 y 1249/2008
A5: Canal clasificación Real Decreto 225/2008
A7: VACUNO (€/kilo canal)
D9: ='vacas y novillas'!D9 -> Mayo | E9: ='vacas y novillas'!E9 -> Mayo
D10: ='VACUNO añojos-vacas'!D10 -> Semana 21/25 | E10: ='VACUNO añojos-vacas'!E10 -> Semana 22/25
A11: CATEGORIA | C11: CLASE | D11: EURO | E11: EURO | F11: Variación
A14: Ternera Blanca | B14: Canal | C14: E | D14: 9.6 | E14: 9.6 | F14: =+E14-D14 -> 0
C15: U | D15: 9.15 | E15: 9.15 | F15: =+E15-D15 -> 0
C16: R | D16: 8.85 | E16: 8.85 | F16: =+E16-D16 -> 0
C17: O | D17: 8.55 | E17: 8.55 | F17: =+E17-D17 -> 0
B18: Pistola | C18: E | D18: 11.95 | E18: 11.95 | F18: =+E18-D18 -> 0
C19: U | D19: 11.35 | E19: 11.35 | F19: =+E19-D19 -> 0
C20: R | D20: 10.75 | E20: 10.75 | F20: =+E20-D20 -> 0
C21: O | D21: 10.15 | E21: 10.15 | F21: =+E21-D21 -> 0
D23: ='vacas y novillas'!D9 -> Mayo | E23: ='vacas y novillas'!E9 -> Mayo | H23: =+D23 -> Mayo | I23: =+E9 -> Mayo
D24: ='vacas y novillas'!D10 -> Semana 21/25 | E24: ='vacas y novillas'!E10 -> Semana 22/25 | H24: =+D10 -> Semana 21/25 | I24: =+E10 -> Semana 22/25
D25: EURO | E25: EURO | H25: EURO | I25: EURO
D26: TERNERA "V" | E26: TERNERA "V" | H26: TERNERA "Z" | I26: TERNERA "Z"
D27: < 8 MESES | E27: < 8 MESES | F27: Variación | H27: 8 A 12 MESES | I27: 8 A 12 MESES | J27: Variación
A28: Despiece Ternera Blanca y Alternativa | B28: Carre con solomillo | D28: 15.8 | E28: 15.8 | F28: =+E28-D28 -> 0 | H28: 12.3 | I28: 12.3 | J28: =+I28-H28 -> 0
B29: Lomo sin hueso | D29: 19.8 | E29: 19.8 | F29: =+E29-D29 -> 0 | H29: 17 | I29: 17 | J29: =+I29-H29 -> 0
B30: Tapas | D30: 18.5 | E30: 18 | F30: =+E30-D30 -> -0.5 | H30: 16.5 | I30: 16 | J30: =+I30-H30 -> -0.5
B31: Cadera | D31: 18.5 | E31: 18 | F31: =+E31-D31 -> -0.5 | H31: 16.5 | I31: 16 | J31: =+I31-H31 -> -0.5
B32: Babilla | D32: 16.5 | E32: 16 | F32: =+E32-D32 -> -0.5 | H32: 14 | I32: 13.8 | J32: =+I32-H32 -> -0.2
B33: Contra | D33: 14.5 | E33: 14 | F33: =+E33-D33 -> -0.5 | H33: 12.5 | I33: 12.3 | J33: =+I33-H33 -> -0.2
B34: Redondo | D34: 19.5 | E34: 18.5 | F34: =+E34-D34 -> -1 | H34: 17 | I34: 16.5 | J34: =+I34-H34 -> -0.5
B35: Rabos | D35: 10.5 | E35: 11 | F35: =+E35-D35 -> 0.5 | H35: 10.5 | I35: 11 | J35: =+I35-H35 -> 0.5
B36: Osobuco delantero | D36: 9 | E36: 9 | F36: =+E36-D36 -> 0 | H36: 8 | I36: 8 | J36: =+I36-H36 -> 0
B37: Osobuco trasero | D37: 9.5 | E37: 9.5 | F37: =+E37-D37 -> 0 | H37: 8.5 | I37: 8.5 | J37: =+I37-H37 -> 0
B38: Solomillo | D38: 27.5 | E38: 28 | F38: =+E38-D38 -> 0.5 | H38: 25.5 | I38: 25.5 | J38: =+I38-H38 -> 0
B39: Canal O | D39: ----- | E39: ----- | F39: ----- | H39: 6.85 | I39: 6.85 | J39: =+I39-H39 -> 0
B40: Pistola O | D40: ----- | E40: ----- | F40: ----- | H40: 7.95 | I40: 7.95 | J40: =+I40-H40 -> 0

Sheet DESPIECE VACUNO
A1: LONJA DE PRECIOS DEL MERCADO CENTRAL DE CARNES
A3: Canal clasificación EUROP Reg. 1234/2007 y 1249/2008
A4: VACUNO (€/kilo canal)
B6: =+'despiece ternera blanca'!D9 -> Mayo | C6: =+'despiece ternera blanca'!E9 -> Mayo | F6: =+B6 -> Mayo | G6: ='despiece ternera blanca'!E9 -> Mayo
B7: ='VACUNO añojos-vacas'!D10 -> Semana 21/25 | C7: ='VACUNO añojos-vacas'!E10 -> Semana 22/25 | F7: =B7 -> Semana 21/25 | G7: =C7 -> Semana 22/25
B8: EURO | C8: EURO | D8: Variación | F8: EURO | G8: EURO | H8: Variación
B9: AÑOJO | F9: VACA
A10: Entrañas | B10: 8.3 | C10: 9 | D10: =+C10-B10 -> 0.7 | F10: 7.6 | G10: 8.5 | H10: =+G10-F10 -> 0.9
A11: Rabos Nacionales | B11: 12 | C11: 12 | D11: =+C11-B11 -> 0 | F11: ----- | G11: ----- | H11: -----
A12: Rabos 1ª | B12: 11 | C12: 10.7 | D12: =+C12-B12 -> -0.3 | F12: 10.5 | G12: 10.5 | H12: =+G12-F12 -> 0
A13: Rabos 2ª | B13: 10.5 | C13: 10.2 | D13: =+C13-B13 -> -0.3 | F13: 10 | G13: 10 | H13: =+G13-F13 -> 0
A14: Morcillos traseros | B14: 9 | C14: 8.5 | D14: =+C14-B14 -> -0.5 | F14: 6.6 | G14: 6.6 | H14: =+G14-F14 -> 0
A15: Morcillos delanteros | B15: 8.7 | C15: 8.2 | D15: =+C15-B15 -> -0.5 | F15: 6 | G15: 6 | H15: =+G15-F15 -> 0
A16: Culata | B16: 9 | C16: 8.5 | D16: =+C16-B16 -> -0.5 | F16: 6.6 | G16: 6.6 | H16: =+G16-F16 -> 0
A17: Ossobuco traseros | B17: 7 | C17: 6.7 | D17: =+C17-B17 -> -0.3 | F17: 4.5 | G17: 4.5 | H17: =+G17-F17 -> 0
A18: Tapas | B18: 11.5 | C18: 11.5 | D18: =+C18-B18 -> 0 | F18: 8.8 | G18: 8.8 | H18: =+G18-F18 -> 0
A19: Babillas | B19: 11 | C19: 11 | D19: =+C19-B19 -> 0 | F19: 8.3 | G19: 8.3 | H19: =+G19-F19 -> 0
A20: Caderas | B20: 12 | C20: 12 | D20: =+C20-B20 -> 0 | F20: 8.8 | G20: 8.8 | H20: =+G20-F20 -> 0
A21: Redondos | B21: 11 | C21: 11.5 | D21: =+C21-B21 -> 0.5 | F21: 8.8 | G21: 8.8 | H21: =+G21-F21 -> 0
A22: Contras | B22: 10.5 | C22: 10.5 | D22: =+C22-B22 -> 0 | F22: 8 | G22: 8 | H22: =+G22-F22 -> 0
A23: Aguja | B23: 9.8 | C23: 9.8 | D23: =+C23-B23 -> 0 | F23: 8.3 | G23: 8.3 | H23: =+G23-F23 -> 0
A24: Espaldilla | B24: 9.6 | C24: 9.6 | D24: =+C24-B24 -> 0 | F24: 8 | G24: 8 | H24: =+G24-F24 -> 0
A25: Lomo entero s/h | B25: 16 | C25: 16.5 | D25: =+C25-B25 -> 0.5 | F25: ----- | G25: ----- | H25: -----
A26: Lomo Bajo + 5 Kg | B26: 13.5 | C26: 14.5 | D26: =+C26-B26 -> 1 | F26: 13.5 | G26: 14.5 | H26: =+G26-F26 -> 1
A27: Lomo Bajo + 6 Kg | B27: 14.5 | C27: 15.5 | D27: =+C27-B27 -> 1 | F27: 14.5 | G27: 15.5 | H27: =+G27-F27 -> 1
A28: Lomo Bajo + 7 Kg | B28: 15 | C28: 16 | D28: =+C28-B28 -> 1 | F28: 16.5 | G28: 17.5 | H28: =+G28-F28 -> 1
A29: Lomo Bajo + 8 Kg | B29: 15.5 | C29: 16.5 | D29: =+C29-B29 -> 1 | F29: 18.5 | G29: 19.5 | H29: =+G29-F29 -> 1
A30: Lomo Alto | B30: 16.5 | C30: 17 | D30: =+C30-B30 -> 0.5 | F30: 20.5 | G30: 21.5 | H30: =+G30-F30 -> 1
A31: Solomillo - 2 Kg | B31: 23 | C31: 23 | D31: =+C31-B31 -> 0 | F31: 20.5 | G31: 21 | H31: =+G31-F31 -> 0.5
A32: Solomillo + 2 Kg | B32: 28 | C32: 28 | D32: =+C32-B32 -> 0 | F32: 24.5 | G32: 25 | H32: =+G32-F32 -> 0.5
A33: Solomillo + 2,5 Kg | B33: 30 | C33: 30 | D33: =+C33-B33 -> 0 | F33: 25.5 | G33: 26 | H33: =+G33-F33 -> 0.5
A34: Solomillo + 2,7 Kg | B34: ----- | C34: ----- | D34: ----- | F34: 26.5 | G34: 27 | H34: =+G34-F34 -> 0.5
A35: Solomillo + 3 Kg | B35: 31 | C35: 31 | D35: =+C35-B35 -> 0 | F35: 27.5 | G35: 28 | H35: =+G35-F35 -> 0.5

Sheet OVINO
A1: LONJA DE PRECIOS DEL MERCADO CENTRAL DE CARNES
A2: Canal clasificación EUROP Reg. 1234/2007 y 1249/2008
A4: €/Kilo Canal
C6: ='VACUNO añojos-vacas'!D9 -> Mayo | D6: ='VACUNO añojos-vacas'!E9 -> Mayo
C7: ='VACUNO añojos-vacas'!D10 -> Semana 21/25 | D7: ='VACUNO añojos-vacas'!E10 -> Semana 22/25
A8: OVINO | C8: EURO | D8: EURO | E8: Variación
B9: de 8 a 10 kg. | C9: 11.6 | D9: 11.6 | E9: =+D9-C9 -> 0
A10: Recentales/Ternascos | B10: de 10 a 12 kg. | C10: 11.6 | D10: 11.6 | E10: =+D10-C10 -> 0
B11: de 12 a 14 kg. | C11: 10.6 | D11: 10.6 | E11: =+D11-C11 -> 0
B12: de 14 a 16 kg. | C12: 9.8 | D12: 9.8 | E12: =+D12-C12 -> 0
B13: de más de 16 kg. | C13: 9.4 | D13: 9.4 | E13: =+D13-C13 -> 0
B15: Extra | C15: 15.5 | D15: 15.5 | E15: =+D15-C15 -> 0
A16: Lechales | B16: 1ª hasta 6 kg. | C16: 14.5 | D16: 14.5 | E16: =+D16-C16 -> 0
B17: 1ª de 6 a 7 kg. | C17: 13.5 | D17: 13.5 | E17: =+D17-C17 -> 0
B18: 2ª | C18: 12.5 | D18: 12.5 | E18: =+D18-C18 -> 0
I22: ,

Sheet PORCINO
A1: LONJA DE PRECIOS DEL MERCADO CENTRAL DE CARNES
A3: Canal clasificación EUROP Reg. 1234/2007 y 1249/2008
A4: Canal clasificación Real Decreto 1028/2011
A6: PORCINO €/KILO
B8: ='VACUNO añojos-vacas'!D9 -> Mayo | C8: ='VACUNO añojos-vacas'!E9 -> Mayo | F8: =+B8 -> Mayo | G8: =+C8 -> Mayo
B9: ='VACUNO añojos-vacas'!D10 -> Semana 21/25 | C9: ='VACUNO añojos-vacas'!E10 -> Semana 22/25 | E9: Enero | F9: =+B9 -> Semana 21/25 | G9: =+C9 -> Semana 22/25
B10: EURO | C10: EURO | E10: Semana 01/25 | F10: EURO | G10: EURO
B11: BLANCO | D11: Variación | F11: IBERICO | H11: Variación
A12: Canal con cabeza | B12: 2.99 | C12: 2.99 | D12: =+C12-B12 -> 0 | F12: ----- | G12: ----- | H12: -----
A13: Canal sin cabeza | B13: 3.12 | C13: 3.12 | D13: =+C13-B13 -> 0 | F13: ----- | G13: ----- | H13: -----
A14: Chuletero con aguja | B14: 4.75 | C14: 4.75 | D14: =+C14-B14 -> 0 | E14: 6.3 | F14: 11.5 | G14: 11.5 | H14: =+G14-F14 -> 0
A15: Centro chuletero | B15: 5.35 | C15: 5.35 | D15: =+C15-B15 -> 0 | E15: 6.15 | F15: 11.5 | G15: 11.5 | H15: =+G15-F15 -> 0
A16: Cinta lomo fresca | B16: 5.6 | C16: 5.6 | D16: =+C16-B16 -> 0 | E16: 5.63 | F16: 15.7 | G16: 15.7 | H16: =+G16-F16 -> 0
A17: Cinta lomo adobada | B17: 6.6 | C17: 6.5 | D17: =+C17-B17 -> -0.1 | E17: 7.35 | F17: 16.5 | G17: 16.5 | H17: =+G17-F17 -> 0
A18: Solomillo | B18: 6.7 | C18: 6.8 | D18: =+C18-B18 -> 0.1 | E18: 6.48 | F18: 16.5 | G18: 16.5 | H18: =+G18-F18 -> 0
A19: Aguja | B19: 3.45 | C19: 3.45 | D19: =+C19-B19 -> 0 | E19: 6.3 | F19: 17 | G19: 17 | H19: =+G19-F19 -> 0
A20: Aguja sin hueso | B20: 4.8 | C20: 4.9 | D20: =+C20-B20 -> 0.1 | E20: 6.15 | F20: ----- | G20: ----- | H20: -----
A21: Jamón tipo York | B21: 3.32 | C21: 3.32 | D21: =+C21-B21 -> 0 | E21: 5.65 | F21: ----- | G21: ----- | H21: -----
A22: Jamón sin hueso | B22: 3.95 | C22: 3.95 | D22: =+C22-B22 -> 0 | F22: ----- | G22: ----- | H22: -----
A23: Paletilla tipo York | B23: 2.9 | C23: 2.9 | D23: =+C23-B23 -> 0 | F23: ----- | G23: ----- | H23: -----
A24: Paletilla sin hueso | B24: 3.62 | C24: 3.62 | D24: =+C24-B24 -> 0 | F24: ----- | G24: ----- | H24: -----
A25: Panceta entera | B25: 4.65 | C25: 4.65 | D25: =+C25-B25 -> 0 | F25: 4.2 | G25: 4.2 | H25: =+G25-F25 -> 0
A26: Panceta Bacón s/h | B26: 5.3 | C26: 5.3 | D26: =+C26-B26 -> 0 | F26: ----- | G26: ----- | H26: -----
A27: Costillar carnudo | B27: 3.95 | C27: 4.05 | D27: =+C27-B27 -> 0.1 | F27: 4.4 | G27: 4.4 | H27: =+G27-F27 -> 0
A28: Punta de costilla | B28: 2.5 | C28: 2.6 | D28: =+C28-B28 -> 0.1 | E28: 6.13 | F28: 5 | G28: 5 | H28: =+G28-F28 -> 0
A29: Tira de costilla | B29: 5.9 | C29: 6 | D29: =+C29-B29 -> 0.1 | E29: 6.05 | F29: 4.2 | G29: 4.2 | H29: =+G29-F29 -> 0
A30: Papada | B30: 2.7 | C30: 2.7 | D30: =+C30-B30 -> 0 | E30: 5.75 | F30: 4.3 | G30: 4.3 | H30: =+G30-F30 -> 0
A31: Tocino | B31: 2.12 | C31: 2.12 | D31: =+C31-B31 -> 0 | E31: 5.61 | F31: 2.7 | G31: 2.7 | H31: =+G31-F31 -> 0
A32: Presa | B32: 7.8 | C32: 7.8 | D32: =+C32-B32 -> 0 | E32: 11.5 | F32: 21.5 | G32: 21.5 | H32: =+G32-F32 -> 0
A33: Secreto | B33: 5.8 | C33: 5.8 | D33: =+C33-B33 -> 0 | F33: 20.5 | G33: 20.5 | H33: =+G33-F33 -> 0
A34: Secreto 2ª | B34: 4.4 | C34: 4.4 | D34: =+C34-B34 -> 0 | E34: 15.5 | F34: 12 | G34: 12 | H34: =+G34-F34 -> 0
A35: Pluma | B35: 8.7 | C35: 8.7 | D35: =+C35-B35 -> 0 | F35: 23 | G35: 23 | H35: =+G35-F35 -> 0
A36: Abanico | B36: ----- | C36: ----- | D36: ----- | E36: 9 | F36: 14.5 | G36: 14.5 | H36: =+G36-F36 -> 0
A37: Lagarto | B37: ----- | C37: ----- | D37: ----- | E37: 10 | F37: 17.5 | G37: 17.5 | H37: =+G37-F37 -> 0
A38: Tapilla o falsa pluma | B38: ----- | C38: ----- | D38: ----- | E38: 29 | F38: 13 | G38: 13 | H38: =+G38-F38 -> 0
A39: Magro 1ª | B39: 3.3 | C39: 3.3 | D39: =+C39-B39 -> 0 | F39: 12.5 | G39: 12.5 | H39: =+G39-F39 -> 0
A40: Espinazo salado | B40: ----- | C40: ----- | D40: ----- | F40: 2.9 | G40: 2.9 | H40: =+G40-F40 -> 0
A41: Colines | B41: 3.75 | C41: 3.75 | D41: =+C41-B41 -> 0 | F41: 3.9 | G41: 3.9 | H41: =+G41-F41 -> 0
C44: =B8 -> Mayo | D44: =C8 -> Mayo
C45: =B9 -> Semana 21/25 | D45: =C9 -> Semana 22/25
...

Sheet CASQUERIA
A1: LONJA DE PRECIOS DEL MERCADO CENTRAL DE CARNES
A3: CASQUERIA (€/kilo)
C5: ='VACUNO añojos-vacas'!D9 -> Mayo | D5: ='VACUNO añojos-vacas'!E9 -> Mayo
C6: ='VACUNO añojos-vacas'!D10 -> Semana 21/25 | D6: ='VACUNO añojos-vacas'!E10 -> Semana 22/25
C7: EURO | D7: EURO | E7: Variación
B8: Hígado fresco | C8: 4.8 | D8: 4.8 | E8: =+D8-C8 -> 0
B9: Hígado congelado | C9: 2.2 | D9: 2.2 | E9: =+D9-C9 -> 0
B10: Lengua | C10: 6 | D10: 6 | E10: =+D10-C10 -> 0
B11: Corazón | C11: 3.2 | D11: 3.2 | E11: =+D11-C11 -> 0
B12: Callos | C12: 4.9 | D12: 4.9 | E12: =+D12-C12 -> 0
A13: VACUNO | B13: Patas | C13: 2.95 | D13: 2.95 | E13: =+D13-C13 -> 0
B14: Morro | C14: 4.9 | D14: 4.9 | E14: =+D14-C14 -> 0
B15: Mollejas | C15: 14 | D15: 14 | E15: =+D15-C15 -> 0
B16: Carrillada limpia | C16: 12.5 | D16: 12.5 | E16: =+D16-C16 -> 0
B17: Carrillada con tapa | C17: 7 | D17: 7 | E17: =+D17-C17 -> 0
B19: Asadura | C19: 3.8 | D19: 3.8 | E19: =+D19-C19 -> 0
A20: OVINO | B20: Cabeza (Unidad) | C20: 1.5 | D20: 1.5 | E20: =+D20-C20 -> 0
B21: Manitas | C21: 4.2 | D21: 4.2 | E21: =+D21-C21 -> 0
B22: Mollejas | C22: 21 | D22: 21 | E22: =+D22-C22 -> 0
B24: Asadura | C24: 3.8 | D24: 3.8 | E24: =+D24-C24 -> 0
A25: LECHAL | B25: Cabeza (Unidad) | C25: 1.6 | D25: 1.6 | E25: =+D25-C25 -> 0
B26: Mollejas | C26: 21 | D26: 21 | E26: =+D26-C26 -> 0
B28: Hígado | C28: 2.3 | D28: 2.3 | E28: =+D28-C28 -> 0
B29: Riñones | C29: 2.1 | D29: 2.1 | E29: =+D29-C29 -> 0
A30: PORCINO | B30: Criadillas | C30: 1.9 | D30: 1.9 | E30: =+D30-C30 -> 0
B31: Corazón | C31: 2.4 | D31: 2.4 | E31: =+D31-C31 -> 0
B32: Lengua | C32: 3.9 | D32: 3.9 | E32: =+D32-C32 -> 0
A34: PET FOOD (Alimentos Animales)
C35: EURO | D35: EURO | E35: Variación
B36: Hígado | C36: 0.3 | D36: 0.3 | E36: =+D36-C36 -> 0
A37: VACUNO | B37: Corazón | C37: 0.4 | D37: 0.4 | E37: =+D37-C37 -> 0 | H37: ,
B38: Pulmón | C38: 0.5 | D38: 0.5 | E38: =+D38-C38 -> 0
A40: OVINO | B40: Asadura | C40: 0.7 | D40: 0.7 | E40: =+D40-C40 -> 0
B42: Hígado | C42: 0.4 | D42: 0.4 | E42: =+D42-C42 -> 0
A43: PORCINO | B43: Corazón | C43: 0.65 | D43: 0.65 | E43: =+D43-C43 -> 0
B44: Pulmón | C44: 0.35 | D44: 0.35 | E44: =+D44-C44 -> 0
A46: ENTRADA DE MERCANCIAS EN KG.
C48: Semana 03/16 | D48: Semana 04/16
B49: MERCANCIA | C49: KG | D49: KG
B50: VACUNO | C50: 3119299
...

Sheet MEDIAS
B1: LONJA DE PRECIOS DEL MERCADO CENTRAL DE CARNES
B3: RESUMEN €/Kilo
C5: =+CASQUERIA!C5 -> Mayo | D5: =+CASQUERIA!D5 -> Mayo | E5: Variación
C6: ='VACUNO añojos-vacas'!D10 -> Semana 21/25 | D6: ='VACUNO añojos-vacas'!E10 -> Semana 22/25
B7: Vacuno canal | C7: =AVERAGE('VACUNO añojos-vacas'!D13:D31,'VACUNO terneras'!D13:D31) -> 7.170625 | D7: =AVERAGE('VACUNO añojos-vacas'!E13:E31,'VACUNO terneras'!E13:E31) -> 7.170625 | E7: =+D7-C7 -> 0
B9: Añojo | C9: =AVERAGE('VACUNO añojos-vacas'!D13:D31) -> 6.98 | D9: =AVERAGE('VACUNO añojos-vacas'!E13:E31) -> 6.98 | E9: =+D9-C9 -> 0
B11: Cuarteo Añojo | C11: =AVERAGE('VACUNO añojos-vacas'!D33:D38) -> 8.5916667 | D11: =AVERAGE('VACUNO añojos-vacas'!E33:E38) -> 8.5916667 | E11: =+D11-C11 -> 0
B13: Vacas y Novillas | C13: =AVERAGE('vacas y novillas'!D14:D28) -> 5.1766667 | D13: =AVERAGE('vacas y novillas'!E14:E28) -> 5.1766667 | E13: =+D13-C13 -> 0
B15: Ternera | C15: =AVERAGE('VACUNO terneras'!D13:D31) -> 7.36125 | D15: =AVERAGE('VACUNO terneras'!E13:E31) -> 7.36125 | E15: =+D15-C15 -> 0
B17: Cuarteo Ternera | C17: =AVERAGE('VACUNO terneras'!D33:D38) -> 8.9666667 | D17: =AVERAGE('VACUNO terneras'!E33:E38) -> 8.9666667 | E17: =+D17-C17 -> 0
B19: Ternera blanca canal | C19: =AVERAGE('despiece ternera blanca'!D14:D17) -> 9.0375 | D19: =AVERAGE('despiece ternera blanca'!E14:E17) -> 9.0375 | E19: =+D19-C19 -> 0
B21: Ternera blanca pistola | C21: =AVERAGE('despiece ternera blanca'!D18:D21) -> 11.05 | D21: =AVERAGE('despiece ternera blanca'!E18:E21) -> 11.05 | E21: =+D21-C21 -> 0
B23: Despiece ternera blanca y alternativa "V" | C23: =AVERAGE('despiece ternera blanca'!D28:D38) -> 16.327273 | D23: =AVERAGE('despiece ternera blanca'!E28:E38) -> 16.145455 | E23: =+D23-C23 -> -0.18181818
B25: Despiece ternera blanca y alternativa "Z" | C25: =AVERAGE('despiece ternera blanca'!H28:H40) -> 13.315385 | D25: =AVERAGE('despiece ternera blanca'!I28:I40) -> 13.207692 | E25: =+D25-C25 -> -0.10769231
B27: Vacuno despiece añojo | C27: =ROUNDDOWN( AVERAGE('DESPIECE VACUNO'!B10:B33,'DESPIECE VACUNO'!B35),2) -> 14.15 | D27: =ROUNDDOWN( AVERAGE('DESPIECE VACUNO'!C10:C33,'DESPIECE VACUNO'!C35),2) -> 14.3 | E27: =+D27-C27 -> 0.15
B29: Vacuno despiece vaca | C29: =AVERAGE('DESPIECE VACUNO'!F10,'DESPIECE VACUNO'!F12:F24,'DESPIECE VACUNO'!F26:F35) -> 13.283333 | D29: =AVERAGE('DESPIECE VACUNO'!G10,'DESPIECE VACUNO'!G12:G24,'DESPIECE VACUNO'!G26:G35) -> 13.633333 | E29: =+D29-C29 -> 0.35
B31: Ovino canal | C31: =ROUND(AVERAGE(OVINO!C9:C14),2) -> 10.6 | D31: =ROUND(AVERAGE(OVINO!D9:D14),2) -> 10.6 | E31: =+D31-C31 -> 0
B33: Ovino despiece | C33: =ROUND(C31+0.75,2) -> 11.35 | D33: =ROUND(D31+0.75,2) -> 11.35 | E33: =+D33-C33 -> 0
B35: Lechal | C35: =ROUND(AVERAGE(OVINO!C15:C18),2) -> 14 | D35: =ROUND(AVERAGE(OVINO!D15:D18),2) -> 14 | E35: =+D35-C35 -> 0
B37: Porcino blanco canal | C37: =+AVERAGE(PORCINO!B12:B13) -> 3.055 | D37: =+AVERAGE(PORCINO!C12:C13) -> 3.055 | E37: =+D37-C37 -> 0
B39: Porcino blanco despiece | C39: =ROUNDDOWN(AVERAGE(PORCINO!B14:B35,PORCINO!B39,PORCINO!B41),2) -> 4.66 | D39: =ROUNDDOWN(AVERAGE(PORCINO!C14:C35,PORCINO!C39,PORCINO!C41),2) -> 4.67 | E39: =+D39-C39 -> 0.01
B41: Porcino ibérico | C41: =AVERAGE(PORCINO!F14:F19,PORCINO!F25,PORCINO!F27:F41) -> 11.581818 | D41: =AVERAGE(PORCINO!G14:G19,PORCINO!G25,PORCINO!G27:G41) -> 11.581818 | E41: =+D41-C41 -> 0
B43: Cochinillo | C43: =AVERAGE(PORCINO!C47:C50) -> 19.5 | D43: =AVERAGE(PORCINO!D47:D50) -> 19.5 | E43: =+D43-C43 -> 0
B45: Vacuno casquería | C45: 4.2784314 | D45: 4.2784314 | E45: =+D45-C45 -> 0
B47: Ovino casquería | C47: 3.124197 | D47: 3.124197 | E47: =+D47-C47 -> 0
B49: Lechal casquería | C49: 2.6864111 | D49: 2.6864111 | E49: =+D49-C49 -> 0
B51: Porcino casquería | C51: 2.016 | D51: 2.016 | E51: =+D51-C51 -> 0

Sheet Hoja1

Sheet Hoja2

Sheet Hoja3
